BEGIN:VCALENDAR
VERSION:2.0
PRODID:-//Riley County Fliers - ECPv6.15.20//NONSGML v1.0//EN
CALSCALE:GREGORIAN
METHOD:PUBLISH
X-WR-CALNAME:Riley County Fliers
X-ORIGINAL-URL:https://www.rileycountyfliers.com
X-WR-CALDESC:Events for Riley County Fliers
REFRESH-INTERVAL;VALUE=DURATION:PT1H
X-Robots-Tag:noindex
X-PUBLISHED-TTL:PT1H
BEGIN:VTIMEZONE
TZID:America/Chicago
BEGIN:DAYLIGHT
TZOFFSETFROM:-0600
TZOFFSETTO:-0500
TZNAME:CDT
DTSTART:20240310T080000
END:DAYLIGHT
BEGIN:STANDARD
TZOFFSETFROM:-0500
TZOFFSETTO:-0600
TZNAME:CST
DTSTART:20241103T070000
END:STANDARD
BEGIN:DAYLIGHT
TZOFFSETFROM:-0600
TZOFFSETTO:-0500
TZNAME:CDT
DTSTART:20250309T080000
END:DAYLIGHT
BEGIN:STANDARD
TZOFFSETFROM:-0500
TZOFFSETTO:-0600
TZNAME:CST
DTSTART:20251102T070000
END:STANDARD
BEGIN:DAYLIGHT
TZOFFSETFROM:-0600
TZOFFSETTO:-0500
TZNAME:CDT
DTSTART:20260308T080000
END:DAYLIGHT
BEGIN:STANDARD
TZOFFSETFROM:-0500
TZOFFSETTO:-0600
TZNAME:CST
DTSTART:20261101T070000
END:STANDARD
END:VTIMEZONE
BEGIN:VEVENT
DTSTART;TZID=America/Chicago:20251004T100000
DTEND;TZID=America/Chicago:20251004T150000
DTSTAMP:20260424T012144
CREATED:20240620T021843Z
LAST-MODIFIED:20241215T213342Z
UID:418-1759572000-1759590000@www.rileycountyfliers.com
SUMMARY:Club Fun Fly Picnic
DESCRIPTION:Our club picnic.  Club members and their families are welcome to attend and enjoy a fun-filled day of flying.
URL:https://www.rileycountyfliers.com/event/club-fun-fly-picnic/
LOCATION:RCF Airport\, River Pond Rd\, Manhattan\, United States
CATEGORIES:Club Members,Community Welcome,Open to spectators
ATTACH;FMTTYPE=image/jpeg:https://www.rileycountyfliers.com/wp-content/uploads/2021/10/010-scaled.jpg
ORGANIZER;CN="Riley County Fliers":MAILTO:andy@andytheimer.com
END:VEVENT
BEGIN:VEVENT
DTSTART;TZID=America/Chicago:20250609T180000
DTEND;TZID=America/Chicago:20250609T210000
DTSTAMP:20260424T012144
CREATED:20241128T152404Z
LAST-MODIFIED:20250509T165854Z
UID:613-1749492000-1749502800@www.rileycountyfliers.com
SUMMARY:Bootcamp
DESCRIPTION:
URL:https://www.rileycountyfliers.com/event/bootcamp/
LOCATION:RCF Airport\, River Pond Rd\, Manhattan\, United States
CATEGORIES:Club Members,Community Welcome,Kansas RC,Open to spectators
ORGANIZER;CN="Riley County Fliers":MAILTO:andy@andytheimer.com
END:VEVENT
BEGIN:VEVENT
DTSTART;TZID=America/Chicago:20250609T180000
DTEND;TZID=America/Chicago:20250609T210000
DTSTAMP:20260424T012144
CREATED:20241128T152404Z
LAST-MODIFIED:20250509T165854Z
UID:613-1749492000-1749502800@www.rileycountyfliers.com
SUMMARY:Bootcamp
DESCRIPTION:
URL:https://www.rileycountyfliers.com/event/bootcamp/
LOCATION:RCF Airport\, River Pond Rd\, Manhattan\, United States
CATEGORIES:Club Members,Community Welcome,Kansas RC,Open to spectators
ORGANIZER;CN="Riley County Fliers":MAILTO:andy@andytheimer.com
END:VEVENT
BEGIN:VEVENT
DTSTART;TZID=America/Chicago:20250607T090000
DTEND;TZID=America/Chicago:20250607T150000
DTSTAMP:20260424T012144
CREATED:20240621T194656Z
LAST-MODIFIED:20250406T144519Z
UID:465-1749286800-1749308400@www.rileycountyfliers.com
SUMMARY:Riley County Fliers - Fly In 2025
DESCRIPTION:The 2025 Riley County Fliers - RC Fly In. \nCome see amazing RC pilots from all over Kansas show off their RC airplanes and flying skills. \nFlying will begin at 9am and continue throughout the day. \nFood will be available for purchase throughout the day. \nInformation for spectators: \nThis event is 100% free to the general public. Come\,  spread a blanket of occupy a picnic table and watch some great RC flying.  We had record attendance last year so be sure to get here early.  Weather permitting flying starts at 9. \nInformation for pilots: \n\nAll AMA licensed pilots are welcome to attend and fly\nPilot fee is $20 (goes to helping improve our club)\nOur club is about half gas/half electric with a couple FPV pilots spinkled in for good measure... Come hang out with us!\n\nRSVP on Facebook or show up at the last minute! \n 
URL:https://www.rileycountyfliers.com/event/fly-in/
LOCATION:RCF Airport\, River Pond Rd\, Manhattan\, United States
CATEGORIES:Club Members,Community Welcome,Kansas RC,Open to spectators
ATTACH;FMTTYPE=image/jpeg:https://www.rileycountyfliers.com/wp-content/uploads/2024/06/FINAL_JUNE_7_2025-copy.jpeg
ORGANIZER;CN="Riley County Fliers":MAILTO:andy@andytheimer.com
END:VEVENT
BEGIN:VEVENT
DTSTART;TZID=America/Chicago:20250222T090000
DTEND;TZID=America/Chicago:20250222T130000
DTSTAMP:20260424T012144
CREATED:20241128T152025Z
LAST-MODIFIED:20241205T164844Z
UID:610-1740214800-1740229200@www.rileycountyfliers.com
SUMMARY:Youth Build n’ Fly
DESCRIPTION:The morning will include: \n\nBuilding and flying a rubber-powered plane [Pinna Flyer 2 kit from J and H Aerospace]\nFlying RealFlight sims\nSeeing some demo flights with indoor tiny-whoop racing drones and an E-flite UMX  Night Vapor\nLunch from Chik-fil-A.
URL:https://www.rileycountyfliers.com/event/youth-build-n-fly/
LOCATION:TBD
CATEGORIES:Club Members,Community Welcome,Kansas RC,Open to spectators
ORGANIZER;CN="Riley County Fliers":MAILTO:andy@andytheimer.com
END:VEVENT
END:VCALENDAR