BEGIN:VCALENDAR
VERSION:2.0
PRODID:-//Riley County Fliers - ECPv6.15.20//NONSGML v1.0//EN
CALSCALE:GREGORIAN
METHOD:PUBLISH
X-WR-CALNAME:Riley County Fliers
X-ORIGINAL-URL:https://www.rileycountyfliers.com
X-WR-CALDESC:Events for Riley County Fliers
REFRESH-INTERVAL;VALUE=DURATION:PT1H
X-Robots-Tag:noindex
X-PUBLISHED-TTL:PT1H
BEGIN:VTIMEZONE
TZID:America/Chicago
BEGIN:DAYLIGHT
TZOFFSETFROM:-0600
TZOFFSETTO:-0500
TZNAME:CDT
DTSTART:20240310T080000
END:DAYLIGHT
BEGIN:STANDARD
TZOFFSETFROM:-0500
TZOFFSETTO:-0600
TZNAME:CST
DTSTART:20241103T070000
END:STANDARD
BEGIN:DAYLIGHT
TZOFFSETFROM:-0600
TZOFFSETTO:-0500
TZNAME:CDT
DTSTART:20250309T080000
END:DAYLIGHT
BEGIN:STANDARD
TZOFFSETFROM:-0500
TZOFFSETTO:-0600
TZNAME:CST
DTSTART:20251102T070000
END:STANDARD
BEGIN:DAYLIGHT
TZOFFSETFROM:-0600
TZOFFSETTO:-0500
TZNAME:CDT
DTSTART:20260308T080000
END:DAYLIGHT
BEGIN:STANDARD
TZOFFSETFROM:-0500
TZOFFSETTO:-0600
TZNAME:CST
DTSTART:20261101T070000
END:STANDARD
END:VTIMEZONE
BEGIN:VEVENT
DTSTART;TZID=America/Chicago:20250222T090000
DTEND;TZID=America/Chicago:20250222T130000
DTSTAMP:20260423T211958
CREATED:20241128T152025Z
LAST-MODIFIED:20241205T164844Z
UID:610-1740214800-1740229200@www.rileycountyfliers.com
SUMMARY:Youth Build n’ Fly
DESCRIPTION:The morning will include: \n\nBuilding and flying a rubber-powered plane [Pinna Flyer 2 kit from J and H Aerospace]\nFlying RealFlight sims\nSeeing some demo flights with indoor tiny-whoop racing drones and an E-flite UMX  Night Vapor\nLunch from Chik-fil-A.
URL:https://www.rileycountyfliers.com/event/youth-build-n-fly/
LOCATION:TBD
CATEGORIES:Club Members,Community Welcome,Kansas RC,Open to spectators
ORGANIZER;CN="Riley County Fliers":MAILTO:andy@andytheimer.com
END:VEVENT
END:VCALENDAR